BEGIN:VCALENDAR
VERSION:2.0
PRODID:-//wp-events-plugin.com//6.6.1//EN
BEGIN:VEVENT
UID:18@ckc.london
DTSTART:20250910T230000Z
DTEND:20250910T230000Z
DTSTAMP:20250519T185136Z
URL:https://ckc.london/events/ckc-reception-at-house-of-parliament/
SUMMARY:CKC Reception at House of Parliament
DESCRIPTION:CKC reception at House of Parliament\n\n11th September 2025
ATTACH;FMTTYPE=image/jpeg:https://ckc.london/wp-content/uploads/2024/09/sc
 reenshot.png
END:VEVENT
END:VCALENDAR