BEGIN:VCALENDAR
VERSION:2.0
PRODID:-//wp-events-plugin.com//6.6.1//EN
BEGIN:VEVENT
UID:12@ckc.london
DTSTART:20241002T230000Z
DTEND:20241002T230000Z
DTSTAMP:20240926T141333Z
URL:https://ckc.london/events/community-cricket-event-at-mcc-indoor-school
 -lords/
SUMMARY:Community Cricket Event  at MCC Indoor School Lords
DESCRIPTION:
ATTACH;FMTTYPE=image/jpeg:https://ckc.london/wp-content/uploads/2024/09/Wh
 atsApp-Image-2024-09-25-at-23.18.21.jpeg
END:VEVENT
END:VCALENDAR